BEGIN:VCALENDAR
VERSION:2.0
PRODID:http://www.kirche-im-hochwald.de
BEGIN:VEVENT
UID:fb960bc1-3ca9-11f1-a3e9-0242ac11002b-1777035600000-de
DTSTAMP:20260420T111339Z
DTSTART:20260424T130000Z
DTEND:20260424T143000Z
SUMMARY;LANGUAGE=de:„Schlau mit Geld umgehen“: Mehr Sicherheit im Alltag für Kinder und Jugendliche 
DESCRIPTION;LANGUAGE=de:Spielerisch\, verständlich und alltagsnah erfahren Jugendliche\, wie ein kluger Umgang mit Geld gelingen kann.
IMAGE;VALUE=URI;DISPLAY=BADGE;FMTTYPE=image/jpeg:http://www.kirche-im-hochwald.de/export/sites/pastr/hermeskeil/.galleries/Stockfotos-PastR/sparen_by_Markus_Weinlaender_pfarrbriefservice.jpg
END:VEVENT
END:VCALENDAR
