BEGIN:VCALENDAR
VERSION:2.0
PRODID:http://www.kirche-im-hochwald.de
BEGIN:VEVENT
UID:f9b926ee-3ca4-11f1-a3e9-0242ac11002b-1779721200000-de
DTSTAMP:20260420T103748Z
DTSTART:20260525T150000Z
SUMMARY;LANGUAGE=de:Ökumenischer Gottesdienst zum Pfingstmontag
DESCRIPTION;LANGUAGE=de:Herzliche Einladung zu einer gemeinsamen spirituellen Wanderung mit Gottesdienst im Nationalpark Hunsrück‑Hochwald am Saustäbel bei Rinzenberg.
IMAGE;VALUE=URI;DISPLAY=BADGE;FMTTYPE=image/jpeg:http://www.kirche-im-hochwald.dehttps://cdn.bistum-trier.de/export/system/shared/mercury/bistuemer/.galleries/beispielbilder/glaube_76.jpg
END:VEVENT
END:VCALENDAR
