BEGIN:VCALENDAR
VERSION:2.0
PRODID:http://www.kirche-im-hochwald.de
BEGIN:VEVENT
UID:e40d3335-3e1d-11f1-a3e9-0242ac11002b-1777129200000-de
DTSTAMP:20260422T073552Z
DTSTART:20260425T150000Z
SUMMARY;LANGUAGE=de:Markusfest und Kirmes in Geisfeld
DESCRIPTION;LANGUAGE=de:Ähnlich der Fronleichnamsprozession begehen wir zur Kirmes eine Prozession und bitten um Gottes Segen; schön wäre eine festliche Gestaltung der Häuser.
IMAGE;VALUE=URI;DISPLAY=BADGE;FMTTYPE=image/jpeg:http://www.kirche-im-hochwald.de/export/sites/pastr/hermeskeil/.galleries/bilder/Kirche_Geisfeld_f99fcfee56.jpg
END:VEVENT
END:VCALENDAR
