BEGIN:VCALENDAR
VERSION:2.0
PRODID:http://www.kirche-im-hochwald.de
BEGIN:VEVENT
UID:ced52a18-3ca6-11f1-a3e9-0242ac11002b-1780488000000-de
DTSTAMP:20260420T105055Z
DTSTART:20260603T120000Z
DTEND:20260603T150000Z
SUMMARY;LANGUAGE=de:Pilgerwanderung für Menschen mit und ohne Beeinträchtigungen
DESCRIPTION;LANGUAGE=de:Die Kirche im Nationalpark lädt gemeinsam mit dem Mehrgenerationenhaus Hermeskeil und dem Nationalparkamt herzlich zu dieser besonderen Veranstaltung ein.
IMAGE;VALUE=URI;DISPLAY=BADGE;FMTTYPE=image/jpeg:http://www.kirche-im-hochwald.dehttps://cdn.bistum-trier.de/export/shared/05_stockfotos/kent-pilcher-87MIF4vqHWg-unsplash.jpg
END:VEVENT
END:VCALENDAR
