BEGIN:VCALENDAR
VERSION:2.0
PRODID:http://www.kirche-im-hochwald.de
BEGIN:VEVENT
UID:92ca2c80-3e43-11f1-a3e9-0242ac11002b-1784458800000-de
DTSTAMP:20260422T120537Z
DTSTART:20260719T110000Z
SUMMARY;LANGUAGE=de:Spirituelle Wanderung der Trauerherberge am Nationalpark
DESCRIPTION;LANGUAGE=de:„Fließende Energie“ – Gemeinsam wollen wir durch Gottes Schöpfung wandern und in spirituellen Texten\, Imaginationen und Gesprächen neue Kraft und Ruhe finden.
IMAGE;VALUE=URI;DISPLAY=BADGE;FMTTYPE=image/jpeg:http://www.kirche-im-hochwald.de/export/sites/pastr/hermeskeil/.galleries/Stockfotos-PastR/dsc_0260_by_Barbara_Schartz_pfarrbriefservice.jpg
END:VEVENT
END:VCALENDAR
