BEGIN:VCALENDAR
VERSION:2.0
PRODID:http://www.kirche-im-hochwald.de
BEGIN:VEVENT
UID:8bc6662f-33f7-11f1-a3e9-0242ac11002b-1795251600000-de
DTSTAMP:20260409T093612Z
DTSTART:20261121T090000Z
DTEND:20261121T113000Z
SUMMARY;LANGUAGE=de:Adventsgesteck aus Naturmaterialien:
DESCRIPTION;LANGUAGE=de:Der Naturpark Saar-Hunsrück\, die Kirche Im Hochwald und das Mehrgenerationenhaus arbeiten gemeinsam daran\, nachhaltige und generationenübergreifende Angebote in der Region zu gestalten.
IMAGE;VALUE=URI;DISPLAY=BADGE;FMTTYPE=image/jpeg:http://www.kirche-im-hochwald.dehttps://cdn.bistum-trier.de/export/shared/05_stockfotos/denisse-leon-KcvxH3W5T6Q-unsplash.jpg
END:VEVENT
END:VCALENDAR
