BEGIN:VCALENDAR
VERSION:2.0
PRODID:http://www.kirche-im-hochwald.de
BEGIN:VEVENT
UID:fafcd6b8-3d2e-11f1-a3e9-0242ac11002b-1780736400000-de
DTSTAMP:20260421T030541Z
DTSTART:20260606T090000Z
DTEND:20260606T094500Z
SUMMARY;LANGUAGE=de: Brautamt der Eheleute Ina Krones und Martin Diederich
END:VEVENT
END:VCALENDAR
