BEGIN:VCALENDAR
VERSION:2.0
PRODID:http://www.kirche-im-hochwald.de
BEGIN:VEVENT
UID:8135812c-3f8a-11f1-a3e9-0242ac11002b-1785573000000-de
DTSTAMP:20260424T030553Z
DTSTART:20260801T083000Z
DTEND:20260801T093000Z
SUMMARY;LANGUAGE=de: Dankamt zur Goldene Hochzeit der Eheleute Antonia und Wilfried Kranzdorf 
END:VEVENT
END:VCALENDAR
