BEGIN:VCALENDAR
VERSION:2.0
PRODID:http://www.kirche-im-hochwald.de
BEGIN:VEVENT
UID:4d4b0c2d-3ec1-11f1-a3e9-0242ac11002b-1782635400000-de
DTSTAMP:20260423T030537Z
DTSTART:20260628T083000Z
DTEND:20260628T093000Z
SUMMARY;LANGUAGE=de: Wort-Gottes-Feier im Festzelt in Breit anlässlich des Jubiläums des Musikverein Büdlich (VV)
END:VEVENT
END:VCALENDAR
