BEGIN:VCALENDAR
VERSION:2.0
PRODID:http://www.kirche-im-hochwald.de
BEGIN:VEVENT
UID:2e089384-0891-11f1-8342-0242ac11002b-1779548400000-de
DTSTAMP:20260213T040506Z
DTSTART:20260523T150000Z
DTEND:20260523T160000Z
SUMMARY;LANGUAGE=de: Wort-Gottes Feier mit Kommunionspendung (HD)
END:VEVENT
END:VCALENDAR
