BEGIN:VCALENDAR
VERSION:2.0
PRODID:http://www.kirche-im-hochwald.de
BEGIN:VEVENT
UID:26980420-3941-11f1-a3e9-0242ac11002b-1777651200000-de
DTSTAMP:20260416T030540Z
DTSTART:20260501T160000Z
DTEND:20260501T163000Z
SUMMARY;LANGUAGE=de: Rosenkranzgebet in der Kapelle im Marienhaus Campus
END:VEVENT
END:VCALENDAR
