BEGIN:VCALENDAR
VERSION:2.0
PRODID:http://www.kirche-im-hochwald.de
BEGIN:VEVENT
UID:263300b9-3941-11f1-a3e9-0242ac11002b-1780666200000-de
DTSTAMP:20260416T030540Z
DTSTART:20260605T133000Z
DTEND:20260605T140000Z
SUMMARY;LANGUAGE=de: Wort-Gottes-Feier zu Fronleichnam in der Kapelle im Marienhaus Campus (MZ)
END:VEVENT
END:VCALENDAR
