BEGIN:VCALENDAR
VERSION:2.0
PRODID:http://www.kirche-im-hochwald.de
BEGIN:VEVENT
UID:10602675-0311-11f1-8342-0242ac11002b-1778949000000-de
DTSTAMP:20260206T040524Z
DTSTART:20260516T163000Z
DTEND:20260516T173000Z
SUMMARY;LANGUAGE=de: Wort-Gottes-Feier mit Kommunionspendung (TW)
END:VEVENT
END:VCALENDAR
